Package: sangeranalyseR Version: 1.21.0 Command: /Library/Frameworks/R.framework/Resources/bin/R CMD build --keep-empty-dirs --no-resave-data sangeranalyseR StartedAt: 2025-11-13 17:34:11 -0500 (Thu, 13 Nov 2025) EndedAt: 2025-11-13 17:34:15 -0500 (Thu, 13 Nov 2025) EllapsedTime: 3.0 seconds RetCode: 1 Status: ERROR PackageFile: None PackageFileSize: NA