Package: sampleClassifier Version: 1.35.0 Command: /home/biocbuild/bbs-3.23-bioc/R/bin/R CMD check --install=check:sampleClassifier.install-out.txt --library=/home/biocbuild/bbs-3.23-bioc/R/site-library --timings sampleClassifier_1.35.0.tar.gz StartedAt: 2025-11-14 03:29:16 -0500 (Fri, 14 Nov 2025) EndedAt: 2025-11-14 03:35:16 -0500 (Fri, 14 Nov 2025) EllapsedTime: 360.5 seconds RetCode: 0 Status: OK CheckDir: sampleClassifier.Rcheck Warnings: 0