Package: sampleClassifier Version: 1.35.0 Command: /Library/Frameworks/R.framework/Resources/bin/R CMD check --install=check:sampleClassifier.install-out.txt --library=/Library/Frameworks/R.framework/Resources/library --no-vignettes --timings sampleClassifier_1.35.0.tar.gz StartedAt: 2025-11-13 22:18:19 -0500 (Thu, 13 Nov 2025) EndedAt: 2025-11-13 22:20:26 -0500 (Thu, 13 Nov 2025) EllapsedTime: 126.7 seconds RetCode: 0 Status: OK CheckDir: sampleClassifier.Rcheck Warnings: 0