Package: sampleClassifier Version: 1.35.0 Command: /Library/Frameworks/R.framework/Resources/bin/R CMD build --keep-empty-dirs --no-resave-data sampleClassifier StartedAt: 2025-11-13 17:34:09 -0500 (Thu, 13 Nov 2025) EndedAt: 2025-11-13 17:35:12 -0500 (Thu, 13 Nov 2025) EllapsedTime: 62.7 seconds RetCode: 0 Status: OK PackageFile: sampleClassifier_1.35.0.tar.gz PackageFileSize: 238.9 KiB