Package: sampleClassifier Version: 1.35.0 Maintainer: Khadija El Amrani MaintainerEmail: a.khadija at gmx.de git_url: https://git.bioconductor.org/packages/sampleClassifier git_branch: devel git_last_commit: 8901504 git_last_commit_date: 2025-10-29 11:05:39 -0500 (Wed, 29 Oct 2025)