Package: safe Version: 3.51.0 Command: /home/biocbuild/bbs-3.23-bioc/R/bin/R CMD INSTALL safe StartedAt: 2025-11-14 15:58:16 -0500 (Fri, 14 Nov 2025) EndedAt: 2025-11-14 15:58:30 -0500 (Fri, 14 Nov 2025) EllapsedTime: 14.6 seconds RetCode: 0 Status: OK