Package: safe Version: 3.51.0 Command: /home/biocbuild/bbs-3.23-bioc/R/bin/R CMD build --keep-empty-dirs --no-resave-data safe StartedAt: 2025-11-14 19:46:20 -0500 (Fri, 14 Nov 2025) EndedAt: 2025-11-14 19:50:01 -0500 (Fri, 14 Nov 2025) EllapsedTime: 221.2 seconds RetCode: 0 Status: OK PackageFile: safe_3.51.0.tar.gz PackageFileSize: 713.4 KiB