Package: safe Version: 3.51.0 Command: /Library/Frameworks/R.framework/Resources/bin/R CMD INSTALL safe StartedAt: 2025-11-14 15:30:54 -0500 (Fri, 14 Nov 2025) EndedAt: 2025-11-14 15:31:00 -0500 (Fri, 14 Nov 2025) EllapsedTime: 6.3 seconds RetCode: 0 Status: OK