Package: safe Version: 3.51.0 Command: rm -rf safe.buildbin-libdir && mkdir safe.buildbin-libdir && /Users/biocbuild/BBS/utils/build-universal.sh safe_3.51.0.tar.gz /Library/Frameworks/R.framework/Resources/bin/R safe.buildbin-libdir StartedAt: 2025-11-13 23:54:33 -0500 (Thu, 13 Nov 2025) EndedAt: 2025-11-13 23:54:41 -0500 (Thu, 13 Nov 2025) EllapsedTime: 8.2 seconds RetCode: 0 Status: OK PackageFile: safe_3.51.0.tgz PackageFileSize: 898.3 KiB