Package: safe Version: 3.51.0 Maintainer: Ludwig Geistlinger MaintainerEmail: ludwig.geistlinger at gmail.com git_url: https://git.bioconductor.org/packages/safe git_branch: devel git_last_commit: 2c88a2e git_last_commit_date: 2025-10-29 09:56:10 -0500 (Wed, 29 Oct 2025)