Package: sSeq Version: 1.49.0 Command: rm -rf sSeq.buildbin-libdir && mkdir sSeq.buildbin-libdir && /Users/biocbuild/BBS/utils/build-universal.sh sSeq_1.49.0.tar.gz /Library/Frameworks/R.framework/Resources/bin/R sSeq.buildbin-libdir StartedAt: 2025-11-13 23:58:33 -0500 (Thu, 13 Nov 2025) EndedAt: 2025-11-13 23:58:36 -0500 (Thu, 13 Nov 2025) EllapsedTime: 3.1 seconds RetCode: 0 Status: OK PackageFile: sSeq_1.49.0.tgz PackageFileSize: 4.301 MiB