Package: sRACIPE Version: 2.3.0 Command: /Library/Frameworks/R.framework/Resources/bin/R CMD build --keep-empty-dirs --no-resave-data sRACIPE StartedAt: 2025-11-13 17:52:16 -0500 (Thu, 13 Nov 2025) EndedAt: 2025-11-13 17:52:47 -0500 (Thu, 13 Nov 2025) EllapsedTime: 31.4 seconds RetCode: 0 Status: OK PackageFile: sRACIPE_2.3.0.tar.gz PackageFileSize: 1.924 MiB