Package: rtracklayer Version: 1.71.0 Command: /home/biocbuild/bbs-3.23-bioc/R/bin/R CMD build --keep-empty-dirs --no-resave-data rtracklayer StartedAt: 2025-11-14 19:45:01 -0500 (Fri, 14 Nov 2025) EndedAt: 2025-11-14 19:46:20 -0500 (Fri, 14 Nov 2025) EllapsedTime: 79.1 seconds RetCode: 0 Status: OK PackageFile: rtracklayer_1.71.0.tar.gz PackageFileSize: 3.897 MiB