Package: rtracklayer Version: 1.71.0 Command: /Library/Frameworks/R.framework/Resources/bin/R CMD INSTALL rtracklayer StartedAt: 2025-11-14 15:16:23 -0500 (Fri, 14 Nov 2025) EndedAt: 2025-11-14 15:16:43 -0500 (Fri, 14 Nov 2025) EllapsedTime: 20.0 seconds RetCode: 0 Status: OK