Package: rtracklayer Version: 1.71.0 Command: /Library/Frameworks/R.framework/Resources/bin/R CMD build --keep-empty-dirs --no-resave-data rtracklayer StartedAt: 2025-11-14 17:30:43 -0500 (Fri, 14 Nov 2025) EndedAt: 2025-11-14 17:31:19 -0500 (Fri, 14 Nov 2025) EllapsedTime: 35.5 seconds RetCode: 0 Status: OK PackageFile: rtracklayer_1.71.0.tar.gz PackageFileSize: 3.898 MiB