Package: rtracklayer Version: 1.71.0 Command: rm -rf rtracklayer.buildbin-libdir && mkdir rtracklayer.buildbin-libdir && /Users/biocbuild/BBS/utils/build-universal.sh rtracklayer_1.71.0.tar.gz /Library/Frameworks/R.framework/Resources/bin/R rtracklayer.buildbin-libdir StartedAt: 2025-11-14 23:49:36 -0500 (Fri, 14 Nov 2025) EndedAt: 2025-11-14 23:50:03 -0500 (Fri, 14 Nov 2025) EllapsedTime: 26.6 seconds RetCode: 0 Status: OK PackageFile: rtracklayer_1.71.0.tgz PackageFileSize: 7.579 MiB