Package: rsbml Version: 2.69.0 Command: /home/biocbuild/bbs-3.23-bioc/R/bin/R CMD INSTALL rsbml StartedAt: 2025-11-14 15:13:14 -0500 (Fri, 14 Nov 2025) EndedAt: 2025-11-14 15:13:30 -0500 (Fri, 14 Nov 2025) EllapsedTime: 15.6 seconds RetCode: 0 Status: OK