Package: rsbml Version: 2.69.0 Command: /home/biocbuild/bbs-3.23-bioc/R/bin/R CMD build --keep-empty-dirs --no-resave-data rsbml StartedAt: 2025-11-14 19:43:35 -0500 (Fri, 14 Nov 2025) EndedAt: 2025-11-14 19:43:55 -0500 (Fri, 14 Nov 2025) EllapsedTime: 20.0 seconds RetCode: 0 Status: OK PackageFile: rsbml_2.69.0.tar.gz PackageFileSize: 662.9 KiB