Package: rsbml Version: 2.69.0 Maintainer: Michael Lawrence MaintainerEmail: michafla at gene.com git_url: https://git.bioconductor.org/packages/rsbml git_branch: devel git_last_commit: 7c17b73 git_last_commit_date: 2025-10-29 09:59:55 -0500 (Wed, 29 Oct 2025)