Package: rprimer Version: 1.15.0 Command: /home/biocbuild/bbs-3.23-bioc/R/bin/R CMD INSTALL rprimer StartedAt: 2025-11-14 15:31:29 -0500 (Fri, 14 Nov 2025) EndedAt: 2025-11-14 15:31:48 -0500 (Fri, 14 Nov 2025) EllapsedTime: 18.8 seconds RetCode: 0 Status: OK