Package: rprimer Version: 1.15.0 Command: /home/biocbuild/bbs-3.23-bioc/R/bin/R CMD build --keep-empty-dirs --no-resave-data rprimer StartedAt: 2025-11-13 19:42:47 -0500 (Thu, 13 Nov 2025) EndedAt: 2025-11-13 19:43:51 -0500 (Thu, 13 Nov 2025) EllapsedTime: 63.1 seconds RetCode: 0 Status: OK PackageFile: rprimer_1.15.0.tar.gz PackageFileSize: 3.101 MiB