Package: rprimer Version: 1.15.0 Command: /Library/Frameworks/R.framework/Resources/bin/R CMD INSTALL rprimer StartedAt: 2025-11-14 15:09:17 -0500 (Fri, 14 Nov 2025) EndedAt: 2025-11-14 15:09:24 -0500 (Fri, 14 Nov 2025) EllapsedTime: 6.9 seconds RetCode: 0 Status: OK