Package: rprimer Version: 1.15.0 Command: /Library/Frameworks/R.framework/Resources/bin/R CMD build --keep-empty-dirs --no-resave-data rprimer StartedAt: 2025-11-14 17:29:36 -0500 (Fri, 14 Nov 2025) EndedAt: 2025-11-14 17:30:03 -0500 (Fri, 14 Nov 2025) EllapsedTime: 26.3 seconds RetCode: 0 Status: OK PackageFile: rprimer_1.15.0.tar.gz PackageFileSize: 3.283 MiB