Package: rprimer Version: 1.15.0 Maintainer: Sofia Persson MaintainerEmail: sofiapersson27 at gmail.com git_url: https://git.bioconductor.org/packages/rprimer git_branch: devel git_last_commit: bc508a0 git_last_commit_date: 2025-10-29 11:13:59 -0500 (Wed, 29 Oct 2025)