Package: ropls Version: 1.43.0 Command: /home/biocbuild/bbs-3.23-bioc/R/bin/R CMD INSTALL ropls StartedAt: 2025-11-16 15:22:00 -0500 (Sun, 16 Nov 2025) EndedAt: 2025-11-16 15:22:28 -0500 (Sun, 16 Nov 2025) EllapsedTime: 28.0 seconds RetCode: 0 Status: OK