Package: ropls Version: 1.43.0 Command: /Library/Frameworks/R.framework/Resources/bin/R CMD build --keep-empty-dirs --no-resave-data ropls StartedAt: 2025-11-13 17:32:15 -0500 (Thu, 13 Nov 2025) EndedAt: 2025-11-13 17:32:44 -0500 (Thu, 13 Nov 2025) EllapsedTime: 29.3 seconds RetCode: 0 Status: OK PackageFile: ropls_1.43.0.tar.gz PackageFileSize: 5.542 MiB