Back to Build/check report for BioC 3.23:   simplified   long
ABCDEFGHIJKLMNOPQ[R]STUVWXYZ

This page was generated on 2025-11-13 11:32 -0500 (Thu, 13 Nov 2025).

HostnameOSArch (*)R versionInstalled pkgs
kjohnson3macOS 13.7.7 Venturaarm64R Under development (unstable) (2025-11-04 r88984) -- "Unsuffered Consequences" 4013
Click on any hostname to see more info about the system (e.g. compilers)      (*) as reported by 'uname -p', except on Windows and Mac OS X

All results for package ropls


To the developers/maintainers of the ropls package:
- Allow up to 24 hours (and sometimes 48 hours) for your latest push to git@git.bioconductor.org:packages/ropls.git to reflect on this report. See Troubleshooting Build Report for more information.
- Use the following Renviron settings to reproduce errors and warnings.
- If 'R CMD check' started to fail recently on the Linux builder(s) over a missing dependency, add the missing dependency to 'Suggests:' in your DESCRIPTION file. See Renviron.bioc for more information.

raw results

Package 1810/2325HostnameOS / ArchINSTALLBUILDCHECKBUILD BIN
ropls 1.43.0  (landing page)
Etienne A. Thevenot
Snapshot Date: 2025-11-12 13:40 -0500 (Wed, 12 Nov 2025)
git_url: https://git.bioconductor.org/packages/ropls
git_branch: devel
git_last_commit: 3b278e8
git_last_commit_date: 2025-10-29 10:26:49 -0500 (Wed, 29 Oct 2025)
kjohnson3macOS 13.7.7 Ventura / arm64  OK    OK    OK    OK  YES



Results for Bioconductor software packages that depend directly on package ropls

QUICK STATSOS / ArchINSTALLBUILDCHECKBUILD BIN
kjohnson3macOS 13.7.7 Ventura / arm64
006
006
0114
006
Package 1/6HostnameOS / ArchINSTALLBUILDCHECKBUILD BIN
ASICS 2.27.0  (landing page)
Gaƫlle Lefort
git_last_commit: 98b3e7f
git_last_commit_date: 2025-10-29 10:44:17 -0500
kjohnson3macOS 13.7.7 Ventura / arm64  OK    OK    WARNINGS    OK  YES
Package 2/6HostnameOS / ArchINSTALLBUILDCHECKBUILD BIN
biosigner 1.39.0  (landing page)
Etienne A. Thevenot
git_last_commit: 65312f0
git_last_commit_date: 2025-10-29 10:30:29 -0500
kjohnson3macOS 13.7.7 Ventura / arm64  OK    OK    ERROR    OK  
Package 3/6HostnameOS / ArchINSTALLBUILDCHECKBUILD BIN
lipidr 2.25.0  (landing page)
Ahmed Mohamed
git_last_commit: 364f6ac
git_last_commit_date: 2025-10-29 10:51:46 -0500
kjohnson3macOS 13.7.7 Ventura / arm64  OK    OK    OK    OK  YES
Package 4/6HostnameOS / ArchINSTALLBUILDCHECKBUILD BIN
MultiBaC 1.21.0  (landing page)
The package maintainer
git_last_commit: 75d22ea
git_last_commit_date: 2025-10-29 11:00:41 -0500
kjohnson3macOS 13.7.7 Ventura / arm64  OK    OK    OK    OK  YES
Package 5/6HostnameOS / ArchINSTALLBUILDCHECKBUILD BIN
phenomis 1.13.0  (landing page)
Etienne A. Thevenot
git_last_commit: 2244e33
git_last_commit_date: 2025-10-29 11:18:33 -0500
kjohnson3macOS 13.7.7 Ventura / arm64  OK    OK    OK    OK  YES
Package 6/6HostnameOS / ArchINSTALLBUILDCHECKBUILD BIN
rqt 1.37.0  (landing page)
Ilya Zhbannikov
git_last_commit: e0c0242
git_last_commit_date: 2025-10-29 10:37:13 -0500
kjohnson3macOS 13.7.7 Ventura / arm64  OK    OK    OK    OK  YES