Package: rnaseqcomp Version: 1.41.0 Command: /home/biocbuild/bbs-3.23-bioc/R/bin/R CMD INSTALL rnaseqcomp StartedAt: 2025-11-13 15:04:28 -0500 (Thu, 13 Nov 2025) EndedAt: 2025-11-13 15:04:48 -0500 (Thu, 13 Nov 2025) EllapsedTime: 19.4 seconds RetCode: 0 Status: OK