Package: rnaseqcomp Version: 1.41.0 Command: /Library/Frameworks/R.framework/Resources/bin/R CMD INSTALL rnaseqcomp StartedAt: 2025-11-13 15:02:39 -0500 (Thu, 13 Nov 2025) EndedAt: 2025-11-13 15:02:44 -0500 (Thu, 13 Nov 2025) EllapsedTime: 4.5 seconds RetCode: 0 Status: OK