Package: rnaseqcomp Version: 1.41.0 Command: /Library/Frameworks/R.framework/Resources/bin/R CMD build --keep-empty-dirs --no-resave-data rnaseqcomp StartedAt: 2025-11-13 17:31:29 -0500 (Thu, 13 Nov 2025) EndedAt: 2025-11-13 17:31:39 -0500 (Thu, 13 Nov 2025) EllapsedTime: 10.1 seconds RetCode: 0 Status: OK PackageFile: rnaseqcomp_1.41.0.tar.gz PackageFileSize: 1.532 MiB