Package: rnaseqcomp Version: 1.41.0 Command: rm -rf rnaseqcomp.buildbin-libdir && mkdir rnaseqcomp.buildbin-libdir && /Users/biocbuild/BBS/utils/build-universal.sh rnaseqcomp_1.41.0.tar.gz /Library/Frameworks/R.framework/Resources/bin/R rnaseqcomp.buildbin-libdir StartedAt: 2025-11-13 23:53:36 -0500 (Thu, 13 Nov 2025) EndedAt: 2025-11-13 23:53:39 -0500 (Thu, 13 Nov 2025) EllapsedTime: 3.0 seconds RetCode: 0 Status: OK PackageFile: rnaseqcomp_1.41.0.tgz PackageFileSize: 1.698 MiB