Package: rnaseqcomp Version: 1.41.0 Maintainer: Mingxiang Teng MaintainerEmail: tengmx at gmail.com git_url: https://git.bioconductor.org/packages/rnaseqcomp git_branch: devel git_last_commit: 088baa1 git_last_commit_date: 2025-10-29 10:26:40 -0500 (Wed, 29 Oct 2025)