Package: rnaEditr Version: 1.21.0 Command: /home/biocbuild/bbs-3.23-bioc/R/bin/R CMD INSTALL rnaEditr StartedAt: 2025-11-11 15:46:09 -0500 (Tue, 11 Nov 2025) EndedAt: 2025-11-11 15:46:47 -0500 (Tue, 11 Nov 2025) EllapsedTime: 38.2 seconds RetCode: 0 Status: OK