Package: rnaEditr Version: 1.21.0 Command: /Library/Frameworks/R.framework/Resources/bin/R CMD INSTALL rnaEditr StartedAt: 2025-11-12 15:39:40 -0500 (Wed, 12 Nov 2025) EndedAt: 2025-11-12 15:39:56 -0500 (Wed, 12 Nov 2025) EllapsedTime: 15.2 seconds RetCode: 0 Status: OK