Package: rnaEditr Version: 1.21.0 Maintainer: Lanyu Zhang MaintainerEmail: jennyzly2016 at gmail.com git_url: https://git.bioconductor.org/packages/rnaEditr git_branch: devel git_last_commit: 6261cfb git_last_commit_date: 2025-10-29 11:03:10 -0500 (Wed, 29 Oct 2025)