Package: rmspc Version: 1.17.0 Command: /Library/Frameworks/R.framework/Resources/bin/R CMD INSTALL rmspc StartedAt: 2025-11-14 15:17:16 -0500 (Fri, 14 Nov 2025) EndedAt: 2025-11-14 15:17:29 -0500 (Fri, 14 Nov 2025) EllapsedTime: 12.4 seconds RetCode: 0 Status: OK