Package: rmspc Version: 1.17.0 Command: /Library/Frameworks/R.framework/Resources/bin/R CMD build --keep-empty-dirs --no-resave-data rmspc StartedAt: 2025-11-14 17:28:23 -0500 (Fri, 14 Nov 2025) EndedAt: 2025-11-14 17:29:01 -0500 (Fri, 14 Nov 2025) EllapsedTime: 38.4 seconds RetCode: 0 Status: OK PackageFile: rmspc_1.17.0.tar.gz PackageFileSize: 2.176 MiB