Package: rmelting Version: 1.27.0 Command: /home/biocbuild/bbs-3.23-bioc/R/bin/R CMD INSTALL rmelting StartedAt: 2025-11-14 15:04:30 -0500 (Fri, 14 Nov 2025) EndedAt: 2025-11-14 15:04:49 -0500 (Fri, 14 Nov 2025) EllapsedTime: 19.3 seconds RetCode: 0 Status: OK