Package: rmelting Version: 1.27.0 Command: /home/biocbuild/bbs-3.23-bioc/R/bin/R CMD build --keep-empty-dirs --no-resave-data rmelting StartedAt: 2025-11-14 19:39:50 -0500 (Fri, 14 Nov 2025) EndedAt: 2025-11-14 19:40:14 -0500 (Fri, 14 Nov 2025) EllapsedTime: 24.0 seconds RetCode: 0 Status: OK PackageFile: rmelting_1.27.0.tar.gz PackageFileSize: 2.49 MiB