Package: rmelting Version: 1.27.0 Command: /Library/Frameworks/R.framework/Resources/bin/R CMD build --keep-empty-dirs --no-resave-data rmelting StartedAt: 2025-11-13 17:31:07 -0500 (Thu, 13 Nov 2025) EndedAt: 2025-11-13 17:31:22 -0500 (Thu, 13 Nov 2025) EllapsedTime: 14.2 seconds RetCode: 0 Status: OK PackageFile: rmelting_1.27.0.tar.gz PackageFileSize: 2.489 MiB