Package: rmelting Version: 1.27.0 Command: rm -rf rmelting.buildbin-libdir && mkdir rmelting.buildbin-libdir && /Users/biocbuild/BBS/utils/build-universal.sh rmelting_1.27.0.tar.gz /Library/Frameworks/R.framework/Resources/bin/R rmelting.buildbin-libdir StartedAt: 2025-11-14 23:48:37 -0500 (Fri, 14 Nov 2025) EndedAt: 2025-11-14 23:48:40 -0500 (Fri, 14 Nov 2025) EllapsedTime: 3.1 seconds RetCode: 0 Status: OK PackageFile: rmelting_1.27.0.tgz PackageFileSize: 2.431 MiB