Package: rigvf Version: 1.3.1 Command: /home/biocbuild/bbs-3.23-bioc/R/bin/R CMD INSTALL rigvf StartedAt: 2025-11-14 15:16:19 -0500 (Fri, 14 Nov 2025) EndedAt: 2025-11-14 15:16:29 -0500 (Fri, 14 Nov 2025) EllapsedTime: 10.2 seconds RetCode: 0 Status: OK