Package: rigvf Version: 1.3.1 Command: /home/biocbuild/bbs-3.23-bioc/R/bin/R CMD build --keep-empty-dirs --no-resave-data rigvf StartedAt: 2025-11-14 19:38:34 -0500 (Fri, 14 Nov 2025) EndedAt: 2025-11-14 19:38:59 -0500 (Fri, 14 Nov 2025) EllapsedTime: 25.0 seconds RetCode: 1 Status: ERROR PackageFile: None PackageFileSize: NA