Package: rigvf Version: 1.3.1 Command: /Library/Frameworks/R.framework/Resources/bin/R CMD INSTALL rigvf StartedAt: 2025-11-13 15:10:27 -0500 (Thu, 13 Nov 2025) EndedAt: 2025-11-13 15:10:32 -0500 (Thu, 13 Nov 2025) EllapsedTime: 4.5 seconds RetCode: 0 Status: OK