Package: rigvf Version: 1.3.1 Command: /Library/Frameworks/R.framework/Resources/bin/R CMD build --keep-empty-dirs --no-resave-data rigvf StartedAt: 2025-11-13 17:30:32 -0500 (Thu, 13 Nov 2025) EndedAt: 2025-11-13 17:30:45 -0500 (Thu, 13 Nov 2025) EllapsedTime: 13.1 seconds RetCode: 1 Status: ERROR PackageFile: None PackageFileSize: NA