Package: rigvf Version: 1.3.1 Maintainer: Michael Love MaintainerEmail: michaelisaiahlove at gmail.com git_url: https://git.bioconductor.org/packages/rigvf git_branch: devel git_last_commit: d491bcc git_last_commit_date: 2025-11-13 10:53:32 -0500 (Thu, 13 Nov 2025)