Package: rifiComparative Version: 1.11.0 Command: /home/biocbuild/bbs-3.23-bioc/R/bin/R CMD INSTALL rifiComparative StartedAt: 2025-11-13 15:30:29 -0500 (Thu, 13 Nov 2025) EndedAt: 2025-11-13 15:31:05 -0500 (Thu, 13 Nov 2025) EllapsedTime: 35.4 seconds RetCode: 0 Status: OK