Package: rifiComparative Version: 1.11.0 Command: /home/biocbuild/bbs-3.23-bioc/R/bin/R CMD build --keep-empty-dirs --no-resave-data rifiComparative StartedAt: 2025-11-14 19:38:26 -0500 (Fri, 14 Nov 2025) EndedAt: 2025-11-14 19:44:04 -0500 (Fri, 14 Nov 2025) EllapsedTime: 338.3 seconds RetCode: 0 Status: OK PackageFile: rifiComparative_1.11.0.tar.gz PackageFileSize: 3.149 MiB