Package: rifiComparative Version: 1.11.0 Command: /Library/Frameworks/R.framework/Resources/bin/R CMD build --keep-empty-dirs --no-resave-data rifiComparative StartedAt: 2025-11-12 17:04:44 -0500 (Wed, 12 Nov 2025) EndedAt: 2025-11-12 17:06:58 -0500 (Wed, 12 Nov 2025) EllapsedTime: 133.6 seconds RetCode: 0 Status: OK PackageFile: rifiComparative_1.11.0.tar.gz PackageFileSize: 3.149 MiB