Package: rifiComparative Version: 1.11.0 Command: rm -rf rifiComparative.buildbin-libdir && mkdir rifiComparative.buildbin-libdir && /Users/biocbuild/BBS/utils/build-universal.sh rifiComparative_1.11.0.tar.gz /Library/Frameworks/R.framework/Resources/bin/R rifiComparative.buildbin-libdir StartedAt: 2025-11-12 21:08:19 -0500 (Wed, 12 Nov 2025) EndedAt: 2025-11-12 21:08:37 -0500 (Wed, 12 Nov 2025) EllapsedTime: 17.2 seconds RetCode: 0 Status: OK PackageFile: rifiComparative_1.11.0.tgz PackageFileSize: 2.438 MiB